BEGIN:VCALENDAR
VERSION:2.0
PRODID:-//parentscan.org//NONSGML kigkonsult.se iCalcreator 2.30.10//
CALSCALE:GREGORIAN
METHOD:PUBLISH
UID:6c6d4f82-e6b4-47c7-89af-95f0ddbe0105
X-WR-CALDESC:For parents/caregivers raising children with Down Syndrome.
X-WR-RELCALID:86523f7516aeddf5bc43e75e9e4e7248
X-WR-TIMEZONE:America/Los_Angeles
BEGIN:VTIMEZONE
TZID:America/Los_Angeles
BEGIN:STANDARD
TZNAME:PST
DTSTART:20251102T020000
TZOFFSETFROM:-0700
TZOFFSETTO:-0800
RDATE:20261101T020000
END:STANDARD
BEGIN:DAYLIGHT
TZNAME:PDT
DTSTART:20260308T020000
TZOFFSETFROM:-0800
TZOFFSETTO:-0700
RDATE:20270314T020000
END:DAYLIGHT
END:VTIMEZONE
BEGIN:VEVENT
UID:c727f665-8979-4ed9-99d2-36133c51e2c8
DTSTAMP:20260420T161235Z
DESCRIPTION:For parents/caregivers raising children with Down Syndrome.
DTSTART;TZID=America/Los_Angeles:20260427T180000
DTEND;TZID=America/Los_Angeles:20260427T200000
LOCATION:433 Soscol Ave\, Ste #B-160\, Napa\, CA 94559 US
SUMMARY:Down Syndrome Support Group - Spanish - In Person
END:VEVENT
END:VCALENDAR
